BEGIN:VCALENDAR
VERSION:2.0
PRODID:-//wp-events-plugin.com//7.2.3.1//EN
TZID:Europe/Berlin
X-WR-TIMEZONE:Europe/Berlin
BEGIN:VEVENT
UID:1573@bitmi.de
DTSTART;TZID=Europe/Berlin:20260428T100000
DTEND;TZID=Europe/Berlin:20260428T110000
DTSTAMP:20260317T080138Z
URL:https://bitmi.de/events/wertezentrierte-stakeholderanalyse-und-technol
 ogie-verantwortungsvoll-gestalten-2/
SUMMARY:Wertezentrierte Stakeholderanalyse und Technologie verantwortungsvo
 ll gestalten
DESCRIPTION:In diesem praxisorientierten Workshop\, durchgeführt vom Mitte
 lstand-Digital Zentrum Fokus Mensch\, lernen Teilnehmer:innen\, wie sie St
 akeholder systematisch identifizieren und deren Werte\, Bedürfnisse und e
 thischen Perspektiven in die Entwicklung von Technologien einbeziehen kön
 nen. Der Fokus liegt auf den Methoden Human-Centred Design (HCD) und Value
  Sensitive Design (VSD)\, die dabei helfen\, Wertekonflikte – wie Sicher
 heit vs. Privatsphäre oder Komfort vs. Nachhaltigkeit – frühzeitig zu 
 erkennen und Lösungen zu erarbeiten\, die alle Betroffenen berücksichtig
 en.\n\nDer Workshop verbindet theoretische Grundlagen mit praktischen Übu
 ngen. Anhand konkreter Beispiele\, etwa aus dem Bereich Smart-Home-Technol
 ogien oder digitaler Dienstleistungen\, üben die Teilnehmer:innen\, eine 
 Stakeholder-Matrix zu erstellen und Wertehierarchien zu analysieren. Ziel 
 ist es\, Technologien zu entwickeln\, die nicht nur funktionieren\, sonder
 n auch fair\, inklusiv und zukunftsfähig sind.\n\nInhalte im Überblick:\
 n\n 	Einführung in HCD &amp\; VSD: Bedeutung von Werten in der Technologi
 eentwicklung.\n 	Stakeholder-Identifikation: Wer ist direkt oder indirekt 
 betroffen? (inkl. nicht-menschlicher Stakeholder wie Umwelt oder zukünfti
 ge Generationen).\n 	Analyse von Wertekonflikten: Typische Spannungsfelder
  und Lösungsansätze.\n 	Praktische Übungen: Erstellung einer Stakeholde
 r-Matrix für ein konkretes Projekt.\n 	Value-Card-Sorting: Priorisierung 
 von Werten und Diskussion von Konflikten.\n 	Transfer in die Praxis: Anwen
 dung der Methoden im eigenen Arbeitsumfeld.\n\nZielgruppe:\nDer Workshop r
 ichtet sich an Entwickler:innen\, Produktmanager:innen und UX/UI-Designer:
 innen\, die Technologie nutzer- und wertezentriert gestalten möchten. Pro
 jektverantwortliche und Entscheider:innen\, die ethische Aspekte in Innova
 tionsprozesse\nintegrieren wollen. Mitarbeitende aus den Bereichen Nachhal
 tigkeit\, Compliance oder Unternehmensethik\, die\nwertebasierte Technolog
 ieentwicklung fördern.\n\nDas lernen Sie kennen:\n\n 	Praktische Methoden
 \, um Stakeholder und ihre Werte systematisch zu erfassen.\n 	Sensibilisie
 rung für ethische Herausforderungen in der Technologieentwicklung.\n 	St
 ärkung der Teamzusammenarbeit durch gemeinsame Reflexion über Werte und 
 Ziele.\n 	Wettbewerbsvorteile durch transparente\, verantwortungsvolle und
  nutzerzentrierte Produkte\n\n&nbsp\;\n\n&nbsp\;
ATTACH;FMTTYPE=image/jpeg:https://bitmi.de/wp-content/uploads/Fokus-Mensch
 -28.04.-1.png
CATEGORIES:Aus den BITMi-Projekten,Workshop
LOCATION:https://zoom.us/j/99638650118?pwd=5aEghwIxziKEjsbpX5a3xfnyDgusat.1
END:VEVENT
BEGIN:VTIMEZONE
TZID:Europe/Berlin
X-LIC-LOCATION:Europe/Berlin
BEGIN:DAYLIGHT
DTSTART:20260329T030000
TZOFFSETFROM:+0100
TZOFFSETTO:+0200
TZNAME:CEST
END:DAYLIGHT
END:VTIMEZONE
END:VCALENDAR