BEGIN:VCALENDAR
VERSION:2.0
PRODID:-//wp-events-plugin.com//7.2.3.1//EN
TZID:Europe/Berlin
X-WR-TIMEZONE:Europe/Berlin
BEGIN:VEVENT
UID:1613@bitmi.de
DTSTART;TZID=Europe/Berlin:20260512T170000
DTEND;TZID=Europe/Berlin:20260512T180000
DTSTAMP:20260420T085120Z
URL:https://bitmi.de/events/von-der-idee-zur-anwendung-in-60-minuten-live-
 coding-mit-ki/
SUMMARY:Von der Idee zur Anwendung in 60 Minuten – Live Coding mit KI
DESCRIPTION:Dominique Winter und Sven Weih entwickeln live vor Publikum ein
 e Softwareanwendung – in nur 60 Minuten\, von der Idee bis zum fertigen 
 Ergebnis. Dabei zeigen sie\, wie KI die Wertschöpfungskette der Produkten
 twicklung verändert\, welche Chancen und Risiken das mit sich bringt und 
 was das für unsere Arbeitswelt bedeutet.\n\nJetzt kostenfrei anmelden\n\n
 Diese Veranstaltung ist ein Angebot des Mittelstand-Digital Zentrum Fokus 
 Mensch. 
ATTACH;FMTTYPE=image/jpeg:https://bitmi.de/wp-content/uploads/Fokus-Mensch
 -.png
CATEGORIES:Aus den BITMi-Projekten,Gesprächsrunde,Offen für alle
END:VEVENT
BEGIN:VTIMEZONE
TZID:Europe/Berlin
X-LIC-LOCATION:Europe/Berlin
BEGIN:DAYLIGHT
DTSTART:20260329T030000
TZOFFSETFROM:+0100
TZOFFSETTO:+0200
TZNAME:CEST
END:DAYLIGHT
END:VTIMEZONE
END:VCALENDAR