BEGIN:VCALENDAR
VERSION:2.0
PRODID:-//wp-events-plugin.com//7.2.3.1//EN
TZID:Europe/Berlin
X-WR-TIMEZONE:Europe/Berlin
BEGIN:VEVENT
UID:1614@bitmi.de
DTSTART;TZID=Europe/Berlin:20260513T090000
DTEND;TZID=Europe/Berlin:20260513T160000
DTSTAMP:20260420T085315Z
URL:https://bitmi.de/events/sprechstundentag-website-feedback-fuer-ihr-unt
 ernehmen/
SUMMARY:Sprechstundentag: Website-Feedback für Ihr Unternehmen
DESCRIPTION:\n\n\n\n\nDer gemeinsame Sprechstundentag der IHK Schwaben und 
 des Mittelstand-Digital Zentrums Fokus Mensch bietet Unternehmen die Mögl
 ichkeit\, ihre Website aus Sicht von Usability-\, UX- und Designexperten p
 rüfen zu lassen. In kompakten 45-Minuten-Terminen erhalten Teilnehmende k
 onstruktives\, praxisnahes Feedback - von ersten positiven Eindrücken bis
  hin zu konkreten Verbesserungspotenzialen\, begründet durch Gestaltgeset
 ze und Heuristiken.\n\nDie Website wird vorab gesichtet\, sodass der Termi
 n direkt in die Analyse und den Austausch starten kann. Im Anschluss erhal
 ten die Unternehmen ein Protokoll mit allen besprochenen Punkten sowie wei
 terführenden Links und einem Feedbackbogen.\nDer Sprechstundentag richtet
  sich an alle\, die ihre Website weiterentwickeln möchten und Impulse fü
 r eine bessere Nutzererfahrung suchen. Die Teilnahme ist kostenfrei\, die 
 Plätze sind begrenzt. Die online-Zugangsdaten werden kurz vor dem Termin 
 an alle Teilnehmenden verschickt.\n\n\n\n\n\nJetzt kostenfrei anmelden\n\n
 Diese Veranstaltung ist ein Angebot des Mittelstand-Digital Zentrum Fokus 
 Mensch. 
ATTACH;FMTTYPE=image/jpeg:https://bitmi.de/wp-content/uploads/Fokus-Mensch
 -.png
CATEGORIES:Aus den BITMi-Projekten,Gesprächsrunde,Offen für alle
END:VEVENT
BEGIN:VTIMEZONE
TZID:Europe/Berlin
X-LIC-LOCATION:Europe/Berlin
BEGIN:DAYLIGHT
DTSTART:20260329T030000
TZOFFSETFROM:+0100
TZOFFSETTO:+0200
TZNAME:CEST
END:DAYLIGHT
END:VTIMEZONE
END:VCALENDAR