BEGIN:VCALENDAR
VERSION:2.0
PRODID:-//wp-events-plugin.com//7.2.3.1//EN
TZID:Europe/Berlin
X-WR-TIMEZONE:Europe/Berlin
BEGIN:VEVENT
UID:1610@bitmi.de
DTSTART;TZID=Europe/Berlin:20260915T090000
DTEND;TZID=Europe/Berlin:20260915T100000
DTSTAMP:20260417T095021Z
URL:https://bitmi.de/events/software-hosted-made-in-europe-2/
SUMMARY:Software Hosted & Made in Europe
DESCRIPTION:Software Hosted &amp\; Made in Europe - Alles zu den Gütesiege
 ln für sichere und souveräne Software\nEs gibt zwei Siegel\, die sichtba
 r machen\, wofür europäische Software steht: Software Hosted in Europe &
 amp\; Software Made in Europe – entwickelt zusammen mit der European Dig
 ital SME Alliance.\n\nWarum das relevant ist?\n\n 	Transparente Datenhaltu
 ng in Europa\n 	Hohe Produkt- und Entwicklungsqualität\n 	Bekenntnis zur 
 Digitalen Souveränität\n 	Stärkung des europäischen Digitalstandorts\n
  	Klarer Wettbewerbsvorteil für Software-Anbieter\n\nAm 15. September 202
 6 | 09:00 Uhr stellen wir die neuen Siegel in einem kostenfreien Webtalk +
  Q&amp\;A vor.\n\nSie erfahren:\n\n 	Welche Kriterien erfüllt werden müs
 sen\n 	Welche Vorteile die Siegel bieten\n\nSeien Sie eines der ersten Unt
 ernehmen\, die das neue EU-Qualitätssignal tragen!\nWir freuen uns auf Ih
 ren Besuch!
ATTACH;FMTTYPE=image/jpeg:https://bitmi.de/wp-content/uploads/Software-Hos
 ted-Made-in-Europe-Alles-zu-den-Guetesiegeln-fuer-sichere-souveraene-Softw
 are-1.png
CATEGORIES:BITMi-Event,Gesprächsrunde,Offen für alle
LOCATION:https://zoom.us/j/92292345764?pwd=QUkWrxGlBvSQlT9JO9FNmfka0cHLL3.1
END:VEVENT
BEGIN:VTIMEZONE
TZID:Europe/Berlin
X-LIC-LOCATION:Europe/Berlin
BEGIN:DAYLIGHT
DTSTART:20260329T030000
TZOFFSETFROM:+0100
TZOFFSETTO:+0200
TZNAME:CEST
END:DAYLIGHT
END:VTIMEZONE
END:VCALENDAR