BEGIN:VCALENDAR
VERSION:2.0
PRODID:-//wp-events-plugin.com//7.2.3.1//EN
TZID:Europe/Berlin
X-WR-TIMEZONE:Europe/Berlin
BEGIN:VEVENT
UID:1611@bitmi.de
DTSTART;TZID=Europe/Berlin:20260505T093000
DTEND;TZID=Europe/Berlin:20260505T103000
DTSTAMP:20260420T170001Z
URL:https://bitmi.de/events/so-verkauft-das-shk-handwerk-heute-live-mit-mo
 bile-offer/
SUMMARY:So verkauft das SHK-Handwerk heute: live mit mobile offer
DESCRIPTION:Wie gelingt es SHK-Handwerksbetrieben\, trotz knapper Ressource
 n Angebote schneller zu erstellen und gleichzeitig ihre Abschlussquote zu 
 steigern?\nIn dem kostenfreien Webinar zeigt die mobile offer GmbH\, wie F
 achhandwerksbetriebe mit den smarten Vertriebskonfiguratoren „mobile off
 er go“ und „mobile offer expert“ ihre Angebotsprozesse deutlich besc
 hleunigen können – von der ersten Anfrage bis zum unterschriftsreifen A
 ngebot in wenigen Minuten. Erfahren Sie aus erster Hand von Geschäftsfüh
 rer Axel Dittmann\, wie das gemeinsam mit ORISA entwickelte Tool nahtlos i
 n bestehende Handwerker-Software integriert wird und den Vertriebsalltag s
 pürbar erleichtert.\nOb Geschäftsführung\, Vertrieb\, Produktmanagement
  oder technische Leitung – dieses Webinar liefert wertvolle Impulse für
  alle\, die komplexe Produkte oder Dienstleistungen effizient konfiguriere
 n\, Prozesse optimieren und Wachstumspotenziale entlang der gesamten Werts
 chöpfungskette erschließen möchten.\nDas Live-Webinar findet am 05. Mai
  2026 online statt.\nMehr Infos und die Anmeldung finden Sie hier.
ATTACH;FMTTYPE=image/jpeg:https://bitmi.de/wp-content/uploads/Webinar_ORIS
 A_Bild-1-scaled.jpg
CATEGORIES:Offen für alle,von unseren Mitgliedern
LOCATION:Online\, .\, .\, Deutschland
X-APPLE-STRUCTURED-LOCATION;VALUE=URI;X-ADDRESS=.\, .\, Deutschland;X-APPLE
 -RADIUS=100;X-TITLE=Online:geo:0,0
END:VEVENT
BEGIN:VTIMEZONE
TZID:Europe/Berlin
X-LIC-LOCATION:Europe/Berlin
BEGIN:DAYLIGHT
DTSTART:20260329T030000
TZOFFSETFROM:+0100
TZOFFSETTO:+0200
TZNAME:CEST
END:DAYLIGHT
END:VTIMEZONE
END:VCALENDAR