BEGIN:VCALENDAR
VERSION:2.0
PRODID:-//wp-events-plugin.com//7.2.3.1//EN
TZID:Europe/Berlin
X-WR-TIMEZONE:Europe/Berlin
BEGIN:VEVENT
UID:1132@bitmi.de
DTSTART;TZID=Europe/Berlin:20241030T090000
DTEND;TZID=Europe/Berlin:20241030T100000
DTSTAMP:20241023T080700Z
URL:https://bitmi.de/events/seo-for-saas-how-to-make-your-saas-project-a-s
 uccess/
SUMMARY:SEO for SaaS - How to make your SaaS project a success
DESCRIPTION:In this Webinar\, Uwe Roll\, CEO of our member company Digitali
 ke GmbH\, will show you how you can be successful with SEO in SaaS. He wil
 l give a short wrap-up of the way SEO works and will go into the character
 istics of the SaaS market and its participants. He will show which challen
 ges SEO have to overcome and which SEO and keyword strategies have proven 
 themselves in practice.\n\nHaving advised almost a dozen SaaS customers\, 
 some of them for several years\, he brings a lot of experience\, which he 
 would like to share with interested listeners.\n\nWhat will you have learn
 t?\n\n 	The very basics about SEO\n 	How SEO works in the SaaS market\n 	W
 hich customer journey potential customers will have\n 	How to build a funn
 el on this that is more than ToFu\, MoFu\, BoFu\n 	Which keywords can be u
 sed in this funnel\n
ATTACH;FMTTYPE=image/jpeg:https://bitmi.de/wp-content/uploads/Webinar-SEO.
 jpg
CATEGORIES:Vortrag
LOCATION:Online\, via\, Zoom\, Deutschland
X-APPLE-STRUCTURED-LOCATION;VALUE=URI;X-ADDRESS=via\, Zoom\, Deutschland;X-
 APPLE-RADIUS=100;X-TITLE=Online:geo:0,0
END:VEVENT
BEGIN:VTIMEZONE
TZID:Europe/Berlin
X-LIC-LOCATION:Europe/Berlin
BEGIN:STANDARD
DTSTART:20241027T020000
TZOFFSETFROM:+0200
TZOFFSETTO:+0100
TZNAME:CET
END:STANDARD
END:VTIMEZONE
END:VCALENDAR