BEGIN:VCALENDAR
VERSION:2.0
PRODID:-//wp-events-plugin.com//7.2.3.1//EN
TZID:Europe/Berlin
X-WR-TIMEZONE:Europe/Berlin
BEGIN:VEVENT
UID:1446@bitmi.de
DTSTART;TZID=Europe/Berlin:20260212T083000
DTEND;TZID=Europe/Berlin:20260212T093000
DTSTAMP:20251024T093912Z
URL:https://bitmi.de/events/pflicht-und-chance-zukunftsgestaltung-im-licht
 -der-regulierung/
SUMMARY:Pflicht und Chance: Zukunftsgestaltung im Licht der Regulierung
DESCRIPTION:In dieser neunteiligen Webinarreihe geben die Erpertinnen und E
 xperten der BITMi-Fachgruppe Nachhaltigkeit. Digitalisierung.Zukunftsfähi
 gkeit. Orientierung\, vermitteln Grundlagenwissen und zeigen konkrete Hand
 lungsoptionen auf. Im Fokus steht die sogenannte Twin Transformation – d
 ie enge Verbindung von Digitalisierung (inkl. KI) und Nachhaltigkeit – a
 ls strategischer Hebel für Resilienz\, Innovation und Zukunftssicherheit.
 \nTeil 3: Pflicht und Chance: Zukunftsgestaltung im Licht der Regulierung\
 nDie Gesetzgebung rund um Nachhaltigkeit wird zunehmend komplexer – und 
 relevanter für Unternehmen jeder Größe. Doch was bedeutet das konkret? 
 Welche Pflichten entstehen für Ihr Unternehmen? Ab wann gelten welche Anf
 orderungen? Was fordern Investoren\, Banken und Geschäftspartner? Und wie
  gelingt der Einstieg in die nachhaltige Berichterstattung? In diesem Webi
 nar bringen wir Licht ins regulatorische Dickicht – praxisnah\, verstän
 dlich und mit Blick auf das Wesentliche.\n\n&nbsp\;\nWeitere Termine:\n12.
  März: Berichtspflichten als Chance – Nachhaltigkeit erfolgreich berich
 ten\n\n9. April: Nachhaltig produzieren – Wege zur klimafitten Fertigung
 \n\n7. Mai: Vom Risiko zur Ressource – Lieferanten nachhaltig managen\n\
 n11. Juni: Erfolg mit Haltung – Wie Kultur Zukunft möglich macht\n\n10.
  September: Führung durch die Transformation\n\n8. Oktober: Regenerativ I
 nnovieren
ATTACH;FMTTYPE=image/jpeg:https://bitmi.de/wp-content/uploads/Webinare-Nac
 hhaltigkeit-4.jpg
CATEGORIES:BITMi-Event,Offen für alle,Vortrag
LOCATION:https://zoom.us/j/96502508852?pwd=QRJEs6B5aW9EcdbE1AIUxHV04KPZ77.1
END:VEVENT
BEGIN:VTIMEZONE
TZID:Europe/Berlin
X-LIC-LOCATION:Europe/Berlin
BEGIN:STANDARD
DTSTART:20251026T020000
TZOFFSETFROM:+0200
TZOFFSETTO:+0100
TZNAME:CET
END:STANDARD
END:VTIMEZONE
END:VCALENDAR