BEGIN:VCALENDAR
VERSION:2.0
PRODID:-//wp-events-plugin.com//7.2.3.1//EN
TZID:Europe/Berlin
X-WR-TIMEZONE:Europe/Berlin
BEGIN:VEVENT
UID:1617@bitmi.de
DTSTART;TZID=Europe/Berlin:20260514T100000
DTEND;TZID=Europe/Berlin:20260514T110000
DTSTAMP:20260423T113107Z
URL:https://bitmi.de/events/online-treffen-ausblick-und-austausch-zu-theme
 n-des-it-rechts/
SUMMARY:Online Treffen: Ausblick und Austausch zu Themen des IT-Rechts
DESCRIPTION:Die BITMi-Fachgruppe IT-Recht lädt alle BITMi-Mitglieder zu ei
 nem Online-Treffen ein.\n\nErfahren Sie Neuigkeiten zum Thema IT-Recht\, e
 rhalten Sie einen Ausblick auf Themen und Webinare –  was kommt\, was w
 ird wichtig?
ATTACH;FMTTYPE=image/jpeg:https://bitmi.de/wp-content/uploads/Austatsch-FG
 -IT-Recht.jpg
CATEGORIES:BITMi-Event,Exklusiv für Mitglieder
LOCATION:https://zoom.us/j/99474303851?pwd=CXXg0ipCB6yewb3v5LL7vP1Mbab5e1.1
END:VEVENT
BEGIN:VTIMEZONE
TZID:Europe/Berlin
X-LIC-LOCATION:Europe/Berlin
BEGIN:DAYLIGHT
DTSTART:20260329T030000
TZOFFSETFROM:+0100
TZOFFSETTO:+0200
TZNAME:CEST
END:DAYLIGHT
END:VTIMEZONE
END:VCALENDAR