BEGIN:VCALENDAR
VERSION:2.0
PRODID:-//wp-events-plugin.com//7.2.3.1//EN
TZID:Europe/Berlin
X-WR-TIMEZONE:Europe/Berlin
BEGIN:VEVENT
UID:1329@bitmi.de
DTSTART;TZID=Europe/Berlin:20250429T090000
DTEND;TZID=Europe/Berlin:20250429T100000
DTSTAMP:20250422T090057Z
URL:https://bitmi.de/events/online-sprechstunde-nis2/
SUMMARY:Online Sprechstunde NIS2
DESCRIPTION:Bis Oktober 2024 hatten die EU-Mitgliedsstaaten Zeit\, die NIS2
 -Richtlinie in nationales Recht umzusetzen. In Deutschland ist dies nicht 
 rechtzeitig geschehen - der entsprechende Gesetzesentwurf muss noch den Bu
 ndestag und Bundesrat passieren.\n\n\n 	Was heißt das nun für die betrof
 fenen Unternehmen?\n 	Woran müssen sie sich halten?\n 	Wie können mittel
 ständische IT-Unternehmen reagieren\, wenn ihre Kunden aus dem KRITIS-Ber
 eich nach der Umsetzung von NIS2 fragen?\n\n\nDie Fachgruppen IT-Sicherhei
 t und IT-Recht laden alle ein\, Fragen zu stellen und in den Austausch zu 
 treten.\n\n\n
ATTACH;FMTTYPE=image/jpeg:https://bitmi.de/wp-content/uploads/KI-Perspekti
 ve-2.png
LOCATION:Online\, via\, Zoom\, Deutschland
X-APPLE-STRUCTURED-LOCATION;VALUE=URI;X-ADDRESS=via\, Zoom\, Deutschland;X-
 APPLE-RADIUS=100;X-TITLE=Online:geo:0,0
END:VEVENT
BEGIN:VTIMEZONE
TZID:Europe/Berlin
X-LIC-LOCATION:Europe/Berlin
BEGIN:DAYLIGHT
DTSTART:20250330T030000
TZOFFSETFROM:+0100
TZOFFSETTO:+0200
TZNAME:CEST
END:DAYLIGHT
END:VTIMEZONE
END:VCALENDAR