BEGIN:VCALENDAR
VERSION:2.0
PRODID:-//wp-events-plugin.com//7.2.3.1//EN
TZID:Europe/Berlin
X-WR-TIMEZONE:Europe/Berlin
BEGIN:VEVENT
UID:1368@bitmi.de
DTSTART;TZID=Europe/Berlin:20250624T090000
DTEND;TZID=Europe/Berlin:20250624T100000
DTSTAMP:20250528T091020Z
URL:https://bitmi.de/events/menschzentrierte-kuenstliche-intelligenz-kapit
 el-02-grundlagen-der-symbolischen-ki/
SUMMARY:Menschzentrierte Künstliche Intelligenz - Kapitel 02: Grundlagen d
 er symbolischen KI
DESCRIPTION:\n\nAngebot des Mittelstand-Digital Zentrum Fokus Mensch.\n\nIn
  diesem zweiten Kapitel werden aufbauend auf die gelernten Grundkonzepte a
 us Kapitel 1 die Kategorien und Methoden der KI erkundet. Hier steht die K
 ategorie der „klassischen“ oder auch „symbolischen“ KI im Vordergr
 und. Im anschließenden dritten Kapitel lernen Sie\, was es mit „Machine
  Learning“ auf sich hat und betrachten die neuesten Entwicklungen im Ber
 eich der KI.\n\nDie Lernreihe besteht aus insgesamt zehn Terminen\, die au
 feinander aufbauen\, aber auch einzeln besucht werden können. Weitere Inf
 ormationen auch zu anderen Terminen in dieser Lernreihe finden Sie hier.\
 n\nDie Lernreihe wird über die LEA-Plattform angeboten. Dort können Si
 e sich kostenfrei registrieren. Anschließend können Sie über diesen Li
 nk der Lernreihe zu Menschzentrierter Künstlicher Intelligenz beitreten.
  Auf der Seite werden alle Materialien zur Verfügung gestellt.\n\nUm an
  den Online-Terminen teilnehmen zu können\, bitten wir Sie sich über
  diesen Link zu registrieren. Sie erhalten somit die Zoom-Einwahldaten z
 u allen Terminen.\n\n
ATTACH;FMTTYPE=image/jpeg:https://bitmi.de/wp-content/uploads/fokus-mensch
 .png
END:VEVENT
BEGIN:VTIMEZONE
TZID:Europe/Berlin
X-LIC-LOCATION:Europe/Berlin
BEGIN:DAYLIGHT
DTSTART:20250330T030000
TZOFFSETFROM:+0100
TZOFFSETTO:+0200
TZNAME:CEST
END:DAYLIGHT
END:VTIMEZONE
END:VCALENDAR