BEGIN:VCALENDAR
VERSION:2.0
PRODID:-//wp-events-plugin.com//7.2.3.1//EN
TZID:Europe/Berlin
X-WR-TIMEZONE:Europe/Berlin
BEGIN:VEVENT
UID:1618@bitmi.de
DTSTART;TZID=Europe/Berlin:20260528T100000
DTEND;TZID=Europe/Berlin:20260528T110000
DTSTAMP:20260423T131426Z
URL:https://bitmi.de/events/marken-fuer-it-unternehmen/
SUMMARY:IP-Recht: Marken für IT-Unternehmen
DESCRIPTION:In diesem Webinar der BITMi-Fachgruppe IT-Recht beantwortet Ras
 mus Keller\, Fachanwalt bei RK IP Law die Fragen:\n\n\n 	Welche Schutzmög
 lichkeiten gibt es für Marken?\n 	Welche Registrierungen sind sinnvoll - 
 deutsche und EU-Marken oder internationale Anmeldungen?\n 	Wie erschaffe i
 ch eine möglichst werthaltige Marke?\n 	Wie ist mein Unternehmensname ges
 chützt?\n
ATTACH;FMTTYPE=image/jpeg:https://bitmi.de/wp-content/uploads/IT-Recht1.jp
 g
CATEGORIES:BITMi-Event,Offen für alle
LOCATION:https://zoom.us/j/95639890435?pwd=DKgXIW079X0e74Ucenby1OMwkLxFym.1
END:VEVENT
BEGIN:VTIMEZONE
TZID:Europe/Berlin
X-LIC-LOCATION:Europe/Berlin
BEGIN:DAYLIGHT
DTSTART:20260329T030000
TZOFFSETFROM:+0100
TZOFFSETTO:+0200
TZNAME:CEST
END:DAYLIGHT
END:VTIMEZONE
END:VCALENDAR