BEGIN:VCALENDAR
VERSION:2.0
PRODID:-//wp-events-plugin.com//7.2.3.1//EN
TZID:Europe/Berlin
X-WR-TIMEZONE:Europe/Berlin
BEGIN:VEVENT
UID:1616@bitmi.de
DTSTART;TZID=Europe/Berlin;VALUE=DATE:20260505
DTEND;TZID=Europe/Berlin;VALUE=DATE:20260507
DTSTAMP:20260421T175817Z
URL:https://bitmi.de/events/maindays-2026/
SUMMARY:MainDays 2026 - Vom Reparieren zum Optimieren – Instandhaltung ne
 u gedacht
DESCRIPTION:Die Industrie und die Instandhaltung stehen an einem Scheideweg
 . Bewährte Strukturen werden aufgebrochen\, neue Technologien und Ansprü
 che schaffen Druck auf Mensch und Maschine zugleich: Effizienz steigern\, 
 Stillstände minimieren – mit weniger Ressourcen mehr erreichen.\nDie In
 standhaltung ist hier der entscheidende Schlüssel: Der Einsatz von KI\, d
 ie fortschreitende Digitalisierung\, steigende Produktionskosten – Die 2
 6. MainDays stehen ganz im Zeichen dieser Disruption und unterstreichen\, 
 dass die Branche schon heute neue Maßstäbe setzt.\n\nUnter dem Titel „
 Vom Reparieren zum Optimieren – Instandhaltung neu gedacht“ bieten die
  MainDays 2026 vom 05. – 06. Mai in Berlin eine Plattform für neue Str
 ategien\, Technologien und Best Practices in der industriellen Instand-hal
 tung und zeigen\, wie Vordenker:innen\, Expert:innen und Entscheider:innen
  den industriellen Wandel in ihren Projekten vorleben und zukunftsfähige 
 Lösungen greifbar machen. Voneinander lernen und mit Mut Neues vorantreib
 en: Welche Technologien\, Ansätze und Strategien sind richtungsweisend? W
 as bewegt die Branche nicht nur heute\, sondern in den kommenden Jahren?\n
 \nTeilnehmende können sich auf spannende Vorträge\, Live-Demos und inter
 aktive Roundtables freuen und erleben so zwei Tage geballter Branchenexper
 tise mit folgenden Highlights:\n\n\n 	Resiliente Instandhaltung und modern
 es CMMS – warum beides zusammengehört\n 	Autonome Instandhaltung mit KI
 -generierten Anleitungen\n 	Wie GenAI Agents systemübergreifende Arbeitsa
 bläufe revolutionieren werden\n 	AI-Based Predictive Maintenance in Solid
 s Production: Innovative Approaches and Proof-of-Concept Results\n 	argvis
 \; Maintenance Portal als benutzerfreundlichste Wahl für SAP PM\n 	Voice 
 Assistants in der Instandhaltung – ein erster Blick in die Zukunft\n 	KI
 -Entscheidungsunterstützung für effiziente Identifikation von Out-of-Con
 trol-Aktionsplänen (OCAP)\n 	Lokale Ersatzteilversorgung im globalen Unte
 rnehmensumfeld – wie gelingen Verbesserungen im komplexen System\n 	Digi
 tale Transformation der Instandhaltung: von veralteten Legacy-Systemen zu 
 integrierter SAP-CMMS in Rekordzeit – ein argvis\; Kundenvortrag\n 	Insp
 ektionsroboter in der Instandhaltung – erste Schritte einer großen Reis
 e\n\nFührende Unternehmen wie Accenture\, argvis\; BASF\, Bayer\, Boehrin
 ger Ingelheim\, DB InfraGO\, enercity\, Flughafen Berlin Brandenburg\, Ger
 olsteiner Brunnen GmbH\, Johnson &amp\; Johnson\, Leiber Group\, Merck\, S
 E Tylose\, Vaillant Group und ZF Friedrichshafen und viele weitere gewähr
 en spannende Einblicke in erfolgreiche Use Cases und Optimierungsinitiativ
 en.\nDie Teilnehmenden erhalten neue Impulse\, um ihre Instandhaltungsproz
 esse gezielt weiterzuentwickeln und nachhaltig an aktuelle Herausforderung
 en anzupassen.\n\nZusätzlich zum Ice Breaker\, der am Vorabend der Verans
 taltung stattfinden wird und allen Teilnehmenden die Möglichkeit eines un
 gezwungenen Kennenlernens bietet\, findet am 4.Mai der argvis\; Workshop 
 „SAP PM smart\, digital und mit KI" statt. Hier lernen Sie\, wie Sie auc
 h ohne komplexe Fiori Apps schnell und einfach am Desktop arbeiten können
 .\n\n\n\nEin besonderes Highlight der Veranstaltung ist die Verleihung des
  Maintainer Awards. In den Kategorien „MAINTAINER – Excellence in Inst
 andhaltung &amp\; technischem Service“ sowie „MAINTAINER – Sonderpre
 is für Innovation“werden herausragende Leistungen und Innovationen gew
 ürdigt und dem Publikum präsentiert. Erstmalig wird es auch einen Publik
 umspreis geben.\n\n\n\nAlle weiteren Informationen finden Sie hier https:/
 /tacinsights.events/de/events/maindays26/\n\nAls BITMi-Mitglied erhalten S
 ie 20% Rabatt auf die Teilnahmegebühren. Schreiben Sie dazu einfach eine 
 Mail an isabel.weyerts@bitmi.de
ATTACH;FMTTYPE=image/jpeg:https://bitmi.de/wp-content/uploads/MainDays_202
 6_Banner_1200x1200px_Social_Media.jpg
CATEGORIES:Netzwerkevent,Offen für alle,von unseren Mitgliedern,vor Ort
LOCATION:Pullman Berlin Schweizerhof\, Budapester Str. 25\, Berlin\, Deutsc
 hland
X-APPLE-STRUCTURED-LOCATION;VALUE=URI;X-ADDRESS=Budapester Str. 25\, Berlin
 \, Deutschland;X-APPLE-RADIUS=100;X-TITLE=Pullman Berlin Schweizerhof:geo:
 0,0
END:VEVENT
BEGIN:VTIMEZONE
TZID:Europe/Berlin
X-LIC-LOCATION:Europe/Berlin
BEGIN:DAYLIGHT
DTSTART:20260329T030000
TZOFFSETFROM:+0100
TZOFFSETTO:+0200
TZNAME:CEST
END:DAYLIGHT
END:VTIMEZONE
END:VCALENDAR