BEGIN:VCALENDAR
VERSION:2.0
PRODID:-//wp-events-plugin.com//7.2.3.1//EN
TZID:Europe/Berlin
X-WR-TIMEZONE:Europe/Berlin
BEGIN:VEVENT
UID:1326@bitmi.de
DTSTART;TZID=Europe/Berlin:20250507T100000
DTEND;TZID=Europe/Berlin:20250507T110000
DTSTAMP:20250416T080202Z
URL:https://bitmi.de/events/ki-gestuetzte-automatisierung-von-geschaeftspr
 ozessen-effizienz-steigern-kosten-senken/
SUMMARY:KI-gestützte Automatisierung von Geschäftsprozessen – Effizienz
  steigern & Kosten senken
DESCRIPTION:In diesem ersten Webinar unserer Reihe werfen wir einen genauer
 en Blick auf die Möglichkeiten der KI-gestützten Automatisierung von Ges
 chäftsprozessen. Wir zeigen auf\, wie Künstliche Intelligenz Unternehmen
  dabei unterstützt\, ihre Effizienz zu steigern und gleichzeitig Kosten z
 u senken.\n\nZunächst bieten wir eine Einführung in die grundlegenden Ko
 nzepte der Automatisierung mit KI. Im Anschluss gehen wir der Frage nach\,
  wie Unternehmen die richtigen Prozesse identifizieren können\, die von K
 I optimiert werden können. Zudem stellen wir praxisnahe Beispiele vor\, d
 ie zeigen\, wie KI in verschiedenen Branchen erfolgreich eingesetzt wird. 
 Abgerundet wird die Sitzung mit einer Vorstellung der gängigsten Tools un
 d Plattformen\, die eine reibungslose Implementierung von KI-gesteuerten P
 rozessen ermöglichen.\n\nSeien Sie dabei\, wenn wir das Potenzial von KI 
 für Ihre Geschäftsprozesse entdecken!
ATTACH;FMTTYPE=image/jpeg:https://bitmi.de/wp-content/uploads/KI-Perspekti
 ve-3.png
CATEGORIES:Vortrag
LOCATION:Online\, via\, Zoom\, Deutschland
X-APPLE-STRUCTURED-LOCATION;VALUE=URI;X-ADDRESS=via\, Zoom\, Deutschland;X-
 APPLE-RADIUS=100;X-TITLE=Online:geo:0,0
END:VEVENT
BEGIN:VTIMEZONE
TZID:Europe/Berlin
X-LIC-LOCATION:Europe/Berlin
BEGIN:DAYLIGHT
DTSTART:20250330T030000
TZOFFSETFROM:+0100
TZOFFSETTO:+0200
TZNAME:CEST
END:DAYLIGHT
END:VTIMEZONE
END:VCALENDAR