BEGIN:VCALENDAR
VERSION:2.0
PRODID:-//wp-events-plugin.com//7.2.3.1//EN
TZID:Europe/Berlin
X-WR-TIMEZONE:Europe/Berlin
BEGIN:VEVENT
UID:1174@bitmi.de
DTSTART;TZID=Europe/Berlin;VALUE=DATE:20250521
DTEND;TZID=Europe/Berlin;VALUE=DATE:20250524
DTSTAMP:20250425T075036Z
URL:https://bitmi.de/events/gitex-europe-2025/
SUMMARY:GITEX EUROPE 2025
DESCRIPTION:GITEX Global gehört zu den größten Startup- und Tech-Events 
 der Welt. Vom 21.-23. Mai 2025 kommt die GITEX erstmals mit einer eigenen 
 Veranstaltung in das Herz Europas – nach Berlin. In insgesamt acht Halle
 n der Messe Berlin werden neben einer Halle für den Mittelstand und zwei 
 Hallen für Startups u.a. die Themen AI\, IOT\, Public Sector und Cybersec
 urity bedient. Damit möchte die GITEX eine Plattform für sämtliche Digi
 talisierungsthemen mit einem starken europäischen Fokus darstellen und Al
 lianzen zwischen Branchenführern\, Innovatoren und Entscheidungsträgern 
 aus Europa und der ganzen Welt aufbauen und stärken.\nBeteilung des BITMi
  | Green Impact Stage\n\nAm 23. Mai von 11:25 bis 11:45 Uhr spricht auf de
 r Green Impact Stage BITMi-Präsident Dr. Oliver Grün über die Rolle der
  Digital SME Alliance und die aktuellen Herausforderungen für digitale KM
 Us. Themen sind der Schutz geistigen Eigentums\, Cybersicherheit\, globale
  Skalierung\, Finanzierungs- und Regulierungsfragen sowie die Auswirkungen
  von KI und geopolitischen Entwicklungen. Zudem wird die Dringlichkeit der
  nachhaltigen digitalen Transformation für europäische KMUs beleuchtet. 
 Seien Sie dabei und erfahren Sie\, wie die Digital SME Alliance Unternehme
 n in diesem dynamischen Umfeld unterstützt.\n\nGITEX Rabatte:\n\n 	10 % R
 abatt auf einen Messestand\n 	10 % Rabatt auf Startup-Pods in der Startup-
 Area\n 	Für einen eigenen Stand oder Startup Pod melden Sie sich direkt b
 ei unserem Ansprechpartner Andreas Rex: Andreas.Rex@dwtc.com\n\nFür BITMi
 -Mitglieder stehen Freitickets zur Verfügung. Schreiben Sie dafür an Isa
 bel Weyerts.\n 
ATTACH;FMTTYPE=image/jpeg:https://bitmi.de/wp-content/uploads/Gitex-Europe
 -Banner_German-12-1024x536-1.jpg
CATEGORIES:BITMi-Event,Messe
LOCATION:Messe Berlin\, Messedamm 22\, Berlin\, 14055\, Deutschland
X-APPLE-STRUCTURED-LOCATION;VALUE=URI;X-ADDRESS=Messedamm 22\, Berlin\, 140
 55\, Deutschland;X-APPLE-RADIUS=100;X-TITLE=Messe Berlin:geo:0,0
END:VEVENT
BEGIN:VTIMEZONE
TZID:Europe/Berlin
X-LIC-LOCATION:Europe/Berlin
BEGIN:DAYLIGHT
DTSTART:20250330T030000
TZOFFSETFROM:+0100
TZOFFSETTO:+0200
TZNAME:CEST
END:DAYLIGHT
END:VTIMEZONE
END:VCALENDAR