BEGIN:VCALENDAR
VERSION:2.0
PRODID:-//wp-events-plugin.com//7.2.3.1//EN
TZID:Europe/Berlin
X-WR-TIMEZONE:Europe/Berlin
BEGIN:VEVENT
UID:1386@bitmi.de
DTSTART;TZID=Europe/Berlin:20251022T130000
DTEND;TZID=Europe/Berlin:20251022T140000
DTSTAMP:20251017T120702Z
URL:https://bitmi.de/events/gemeinsam-gewachsen-ein-jahr-mentoring/
SUMMARY:!Abgesagt! Gemeinsam gewachsen – Ein Jahr Mentoring
DESCRIPTION:Heute blicken wir auf zwölf Monate Mentoring\, Begegnungen\, n
 eue Erfahrungen und persönliche (Weiter)Entwicklungen zurück. Wir laden 
 alle aktuellen Mentees und Mentor:innen herzlich ein\, gemeinsam mit uns z
 urückzublicken und das Mentoring-Jahr gemeinsam zu reflektieren. Darüber
  hinaus wollen wir auch einen Ausblick wagen. Wie können wir persönlich 
 und im Unternehmen gemeinsam weiter wachsen? Zum Austausch sind auch alle 
 herzlich eingeladen\, die am Mentoring interessiert sind und sich vorstell
 en können\, sich als neue Mentor:innen zu engagieren.\n\nWas erwartet Sie
 ?\n\nIn einer offenen Atmosphäre tauschen wir Erfahrungen aus\, teilen pe
 rsönliche Highlights und Learnings aus dem Mentoring-Alltag. Themen des M
 entorings sind z.B.:\n\n 	Unterstützung bei der Karriereentwicklung\n 	Pe
 rsönliche Weiterentwicklung\n 	Selbstmarketing &amp\; Positionierung im B
 erufsleben\n 	Umgang mit Widerständen und Hindernissen\n 	Aufbau und Pfle
 ge beruflicher Netzwerke\n 	Führung und Leadership\n 	Arbeitsorganisation
  &amp\; Zeitmanagement\n 	Vereinbarkeit von Beruf\, Familie und Freizeit\n
 \nSeien Sie dabei und bringen Sie Ihre Fragen zum Mentoring mit! Wir freue
 n uns auf Ihre Teilnahme.\n\n&nbsp\;
ATTACH;FMTTYPE=image/jpeg:https://bitmi.de/wp-content/uploads/1-Jahr-Mento
 ring-1.png
CATEGORIES:Aus den BITMi-Projekten,Gesprächsrunde,Netzwerkevent,Offen
 für alle
END:VEVENT
BEGIN:VTIMEZONE
TZID:Europe/Berlin
X-LIC-LOCATION:Europe/Berlin
BEGIN:DAYLIGHT
DTSTART:20250330T030000
TZOFFSETFROM:+0100
TZOFFSETTO:+0200
TZNAME:CEST
END:DAYLIGHT
END:VTIMEZONE
END:VCALENDAR