BEGIN:VCALENDAR
VERSION:2.0
PRODID:-//wp-events-plugin.com//7.2.3.1//EN
TZID:Europe/Berlin
X-WR-TIMEZONE:Europe/Berlin
BEGIN:VEVENT
UID:1406@bitmi.de
DTSTART;TZID=Europe/Berlin;VALUE=DATE:20251007
DTEND;TZID=Europe/Berlin;VALUE=DATE:20251009
DTSTAMP:20250804T140335Z
URL:https://bitmi.de/events/fabulous-female-empowerment-days-2025-ratingen
 /
SUMMARY:Fabulous Female Empowerment Days 2025 | Ratingen
DESCRIPTION:Fabulous Female Empowerment Days 2025 - Starke Frauen\, starke 
 Stimmen\, starker Auftritt\n\nSich zeigen\, klar auftreten und gehört wer
 den – das wünschen sich viele Frauen im Berufsalltag. Innere Klarheit\,
  kommunikative Präsenz und der Umgang mit äußeren Erwartungen oder Lamp
 enfieber spielen dabei eine zentrale Rolle. Wer diese Fähigkeiten stärkt
 \, kann eigene Potenziale gezielt einsetzen und überzeugend auftreten. Di
 e Fabulous Empowerment Days 2025 bieten Raum\, um Stimme und Präsenz zu s
 tärken und sich gegenseitig zu empowern.\n\nBei den Fabulous Empowerment 
 Days 2025 erhalten die Teilnehmerinnen Impulse für einen souveränen Auft
 ritt\, um in herausfordernden Situationen schlagfertig zu bleiben und die 
 eigenen Stärken sichtbar zu machen. Mit Übungen für mentale Stärke\, S
 timme und Körpersprache sowie viel Raum für Austausch und wertschätzend
 es Feedback. Die Veranstaltung bietet starke Impulse\, inspirierende Begeg
 nungen und Gelegenheiten\, über sich hinauszuwachsen.\n\nEgal\, ob du zum
  ersten Mal dabei bist oder schon 2024 mitgemacht hast\, eine Anmeldung lo
 hnt sich in jedem Fall. Es warten viele neue Themen\, Impulse und Übungen
  zum persönlichen Empowerment auf dich!
ATTACH;FMTTYPE=image/jpeg:https://bitmi.de/wp-content/uploads/FFED-dvs-1.p
 ng
CATEGORIES:Exklusiv für Femtential-Projektunternehmen,Netzwerkevent,vor
 Ort,Workshop
LOCATION:dvs – Deutscher Versand Service GmbH (Ratingen)\, Ernst-Dietrich
 -Platz 2\, Ratingen\, 40882\, Deutschland
X-APPLE-STRUCTURED-LOCATION;VALUE=URI;X-ADDRESS=Ernst-Dietrich-Platz 2\, Ra
 tingen\, 40882\, Deutschland;X-APPLE-RADIUS=100;X-TITLE=dvs – Deutscher 
 Versand Service GmbH (Ratingen):geo:0,0
END:VEVENT
BEGIN:VTIMEZONE
TZID:Europe/Berlin
X-LIC-LOCATION:Europe/Berlin
BEGIN:DAYLIGHT
DTSTART:20250330T030000
TZOFFSETFROM:+0100
TZOFFSETTO:+0200
TZNAME:CEST
END:DAYLIGHT
END:VTIMEZONE
END:VCALENDAR