BEGIN:VCALENDAR
VERSION:2.0
PRODID:-//wp-events-plugin.com//7.2.3.1//EN
TZID:Europe/Berlin
X-WR-TIMEZONE:Europe/Berlin
BEGIN:VEVENT
UID:1407@bitmi.de
DTSTART;TZID=Europe/Berlin;VALUE=DATE:20251126
DTEND;TZID=Europe/Berlin;VALUE=DATE:20251128
DTSTAMP:20250804T143751Z
URL:https://bitmi.de/events/fabulous-female-empowerment-days-2025-geisenha
 usen/
SUMMARY:Fabulous Female Empowerment Days 2025 | Geisenhausen
DESCRIPTION:Fabulous Female Empowerment Days 2025 - Starke Frauen\, starke 
 Stimmen\, starker Auftritt\n\nSich zeigen\, klar auftreten und gehört wer
 den – das wünschen sich viele Frauen im Berufsalltag. Innere Klarheit\,
  kommunikative Präsenz und der Umgang mit äußeren Erwartungen oder Lamp
 enfieber spielen dabei eine zentrale Rolle. Wer diese Fähigkeiten stärkt
 \, kann eigene Potenziale gezielt einsetzen und überzeugend auftreten. Di
 e Fabulous Empowerment Days 2025 bieten Raum\, um Stimme und Präsenz zu s
 tärken und sich gegenseitig zu empowern.\n\nNeu ist in diesem Jahr ein ge
 meinsames Modul für Männer und Frauen: Unter dem Motto „Starke Stimmen
 \, starkes Miteinander“ geht es darum\, sich über Rollenbilder auszutau
 schen und ein wertschätzendes Miteinander zu fördern. Die Teilnehmenden 
 erhalten Impulse für einen souveränen Auftritt\, mentale Stärke und Kö
 rpersprache. Mit vielen Übungen\, Feedback und inspirierenden Begegnungen
  schafft die Veranstaltung Raum zum Wachsen.\n\nEgal\, ob du zum ersten Ma
 l dabei bist oder schon 2024 mitgemacht hast\, eine Anmeldung lohnt sich i
 n jedem Fall. Es warten viele neue Themen\, Impulse und Übungen zum pers
 önlichen Empowerment auf dich!
ATTACH;FMTTYPE=image/jpeg:https://bitmi.de/wp-content/uploads/FFED-Adito-1
 .png
CATEGORIES:Exklusiv für Femtential-Projektunternehmen,Netzwerkevent,vor
 Ort,Workshop
LOCATION:ADITO Software GmbH\, Konrad-Zuse-Str. 4\, Geisenhausen\, 84144\, 
 Deutschland
X-APPLE-STRUCTURED-LOCATION;VALUE=URI;X-ADDRESS=Konrad-Zuse-Str. 4\, Geisen
 hausen\, 84144\, Deutschland;X-APPLE-RADIUS=100;X-TITLE=ADITO Software Gmb
 H:geo:0,0
END:VEVENT
BEGIN:VTIMEZONE
TZID:Europe/Berlin
X-LIC-LOCATION:Europe/Berlin
BEGIN:STANDARD
DTSTART:20251026T020000
TZOFFSETFROM:+0200
TZOFFSETTO:+0100
TZNAME:CET
END:STANDARD
END:VTIMEZONE
END:VCALENDAR