BEGIN:VCALENDAR
VERSION:2.0
PRODID:-//wp-events-plugin.com//7.2.3.1//EN
TZID:Europe/Berlin
X-WR-TIMEZONE:Europe/Berlin
BEGIN:VEVENT
UID:1619@bitmi.de
DTSTART;TZID=Europe/Berlin:20260429T083000
DTEND;TZID=Europe/Berlin:20260429T120000
DTSTAMP:20260423T133542Z
URL:https://bitmi.de/events/europes-tech-sovereignty-test/
SUMMARY:Europe’s Tech Sovereignty Test
DESCRIPTION:Da Europa nun von der Ausarbeitung digitaler Vorschriften zu de
 ren Durchsetzung übergeht\, besteht die nächste Herausforderung darin\, 
 ob sich diese Regulierung in industrielle Stärke\, strategische Widerstan
 dsfähigkeit und weltweit wettbewerbsfähige europäische Unternehmen umse
 tzen lässt.\n\nDiese kostenfreie Veranstaltung von LexisNexis und Teneo i
 n Zusammenarbeit mit der Vertretung der Europäischen Kommission in Deutsc
 hland bringt Branchenführer\, politische Entscheidungsträger und Experte
 n zusammen\, um zu erörtern\, wie die EU und Deutschland das Thema techno
 logische Souveränität in einer Zeit angehen\, die von zunehmendem geopol
 itischem Druck\, wachsender Abhängigkeit von außereuropäischer digitale
 r Infrastruktur und immer drängenderen Fragen zu Größe\, Investitionen 
 und Marktmacht geprägt ist.\n\nMit dabei auf dem Panel "EU tech sovereign
 ty" ist Anna Brodmann\, Referentin Digitalpolitik und Leiterin Controlling
  Internationale Projekte des BITMi.\n\nWeitere Informationen
CATEGORIES:Offen für alle,Panel,Partnerevent
LOCATION:Europäisches Haus Berlin\, Unter den Linden 78\, Berlin\, 10117\,
  Deutschland
X-APPLE-STRUCTURED-LOCATION;VALUE=URI;X-ADDRESS=Unter den Linden 78\, Berli
 n\, 10117\, Deutschland;X-APPLE-RADIUS=100;X-TITLE=Europäisches Haus Berl
 in:geo:0,0
END:VEVENT
BEGIN:VTIMEZONE
TZID:Europe/Berlin
X-LIC-LOCATION:Europe/Berlin
BEGIN:DAYLIGHT
DTSTART:20260329T030000
TZOFFSETFROM:+0100
TZOFFSETTO:+0200
TZNAME:CEST
END:DAYLIGHT
END:VTIMEZONE
END:VCALENDAR