BEGIN:VCALENDAR
VERSION:2.0
PRODID:-//wp-events-plugin.com//7.2.3.1//EN
TZID:Europe/Berlin
X-WR-TIMEZONE:Europe/Berlin
BEGIN:VEVENT
UID:1592@bitmi.de
DTSTART;TZID=Europe/Berlin:20260401T100000
DTEND;TZID=Europe/Berlin:20260401T110000
DTSTAMP:20260316T110551Z
URL:https://bitmi.de/events/eu-ki-verordnung-kompakt-ueberblick-und-erste-
 schritte-zur-umsetzung-im-unternehmen/
SUMMARY:KI-Perspektiven: EU-KI-Verordnung kompakt: Überblick und erste Sch
 ritte zur Umsetzung im Unternehmen
DESCRIPTION:Mit der europäischen KI-Verordnung – dem EU AI Act – scha
 fft die EU erstmals einen verbindlichen Rechtsrahmen für den Einsatz von 
 Künstlicher Intelligenz. Viele Unternehmen stehen nun vor der Frage\, wel
 che Anforderungen auf sie zukommen und wie sie sich organisatorisch darauf
  vorbereiten können. Dieses kompakte Webinar mit anschließendem Austausc
 h vermittelt in 30 Minuten einen verständlichen Überblick über die zent
 ralen Inhalte der KI-Verordnung und zeigt\, welche ersten Schritte Unterne
 hmen zur Vorbereitung auf die neuen regulatorischen Anforderungen gehen k
 önnen.\n\nZiele des Webinars\nNach der Teilnahme am Webinar können die T
 eilnehmenden:\n\n\n 	\ndie Zielsetzung und Grundstruktur der europäischen
  KI-Verordnung erläutern\n\n 	\ndas risikobasierte Regulierungskonzept de
 r Verordnung grundlegend einordnen\n\n 	\neinschätzen\, welche Bedeutung 
 die KI-Verordnung für Unternehmen hat\n\n\nIhr Nutzen\n\n\n 	\nSie erhalt
 en eine kompakte und verständliche Einführung in die KI-Verordnung der E
 U\n\n 	\nSie verstehen\, warum sich Unternehmen bereits jetzt mit den neue
 n Anforderungen beschäftigen sollten\n\n 	\nSie bekommen Orientierung\, w
 elche Themen und Maßnahmen für einen ersten Einstieg in die Umsetzung re
 levant sind\n\n\nÜber unseren Speaker: Guido Pesch-Mann | PeschMann-Consu
 lting\n\nGuido Pesch-Mann ist Inhaber von PeschMann-Consulting und unterst
 ützt KMU Unternehmen dabei\, Informationssicherheit praxisnah und nachhal
 tig umzusetzen. Er ist Diplom-Ingenieur Maschinenbau (FH) und Berater für
  Cybersicherheit nach VdS-Standard verfügt er über mehr als 25 Jahre Erf
 ahrung in der Informationstechnologie.\n\n&nbsp\;
ATTACH;FMTTYPE=image/jpeg:https://bitmi.de/wp-content/uploads/KI-Perspekti
 ven-1.4.-1.png
CATEGORIES:BITMi-Event,Offen für alle,Vortrag
LOCATION:https://zoom.us/j/96901120772?pwd=eWhyNazEF1ALTK1NOGH1mEblkqZZJb.1
END:VEVENT
BEGIN:VTIMEZONE
TZID:Europe/Berlin
X-LIC-LOCATION:Europe/Berlin
BEGIN:DAYLIGHT
DTSTART:20260329T030000
TZOFFSETFROM:+0100
TZOFFSETTO:+0200
TZNAME:CEST
END:DAYLIGHT
END:VTIMEZONE
END:VCALENDAR