BEGIN:VCALENDAR
VERSION:2.0
PRODID:-//wp-events-plugin.com//7.2.3.1//EN
TZID:Europe/Berlin
X-WR-TIMEZONE:Europe/Berlin
BEGIN:VEVENT
UID:828@bitmi.de
DTSTART;VALUE=DATE:20230928
DTEND;VALUE=DATE:20230929
DTSTAMP:20230906T115001Z
URL:https://bitmi.de/events/digital-futurecongress-2023-in-muenchen/
SUMMARY:DIGITAL FUTUREcongress 2023 in München
DESCRIPTION:DIGITAL FUTUREcongress 2023 in München\nDigitale Best Practice
 s für den Mittelstand und größere Unternehmen\n\nAuf einer kompakten Pr
 äsenzveranstaltung rund um die vielfältigen Potenziale der Business-Digi
 talisierung stehen beim DIGITAL FUTUREcongress (DFC) aktuelle Softwarelös
 ungen\, zukunftsweisende Technologien sowie Success Stories im Fokus. Das 
 Format bietet Trends und Impulse zu den Themen Digitale Transformation\, b
 etriebliches Management\, HR-Organisation und Prozessoptimierung mit Hilfe
  von ChatGPT\, KI\, IoT\, Low Code-Plattformen\, Robotik\, Datensicherheit
  und -analytics\, New Work\, Cloud Computing\, Metaverse\, Virtual Reality
 \, Online Marketing\, Sales Tools\, Förderungsmöglichkeiten\, DMS etc.\n
 \nDer DFC adressiert am 28. September die 1. und 2. Führungsebene aus der
  Region Süddeutschland. Zu erleben sind in einem abwechslungsreichen Konf
 erenzprogramm über 50 Keynotes (bspw. von Voith oder Microsoft)\, praxisr
 elevante\, teils branchenbezogene Vorträge\, userorientierte Masterclasse
 s und die Verleihung des BVMID IT-Business Awards. Daneben bestehen Gelege
 nheiten zum interdisziplinären Networking und Austausch mit anderen Besuc
 herInnen sowie mehr als 60 IT-Anbietern oder Experten.\n\nMehr zu den Prog
 ramminhalten und Terminen des Events unter https://digital-futurecongress.
 de/de/.\n\nFür BITMi-Mitglieder stehen Free Tickets zur Verfügung (im We
 rt von je 69 Euro). Kontaktieren Sie uns für den Erhalt des Codes gerne v
 ia Mail.
ATTACH;FMTTYPE=image/jpeg:https://bitmi.de/wp-content/uploads/Digital-Futu
 re-Congress.png
CATEGORIES:Partnerevent
END:VEVENT
END:VCALENDAR