BEGIN:VCALENDAR
VERSION:2.0
PRODID:-//wp-events-plugin.com//7.2.3.1//EN
TZID:Europe/Berlin
X-WR-TIMEZONE:Europe/Berlin
BEGIN:VEVENT
UID:1050@bitmi.de
DTSTART;TZID=Europe/Berlin:20241113T090000
DTEND;TZID=Europe/Berlin:20241113T100000
DTSTAMP:20241107T152552Z
URL:https://bitmi.de/events/co%e2%82%82-fuss-und-handabdruck-von-ikt-loesu
 ngen-quantifizieren/
SUMMARY:CO₂ Fuß- und Handabdruck von IKT-Lösungen quantifizieren
DESCRIPTION:Das Webinar ist als Einstiegs-/ Überblicksformat konzipiert un
 d geht der Frage nach\, wie der Fuß- und Handabdruck einer konkreten IKT-
 Lösung in CO₂-Äquivalente berechnet werden kann. Lina Nardone von der 
 European Digital SME Alliance\, stellt die von der European Green Digital 
 Coalition entwickelte Methodik und eine Fallstudie aus der Praxis mit dem
  Eschborner Unternehmen Nightlycode vor. Das Webinar ist praxisnah ausge
 richtet und bietet Raum für individuelle Fragestellungen.
ATTACH;FMTTYPE=image/jpeg:https://bitmi.de/wp-content/uploads/BITMI-Commun
 ity-Breakfast-11.png
CATEGORIES:Vortrag
END:VEVENT
BEGIN:VTIMEZONE
TZID:Europe/Berlin
X-LIC-LOCATION:Europe/Berlin
BEGIN:STANDARD
DTSTART:20241027T020000
TZOFFSETFROM:+0200
TZOFFSETTO:+0100
TZNAME:CET
END:STANDARD
END:VTIMEZONE
END:VCALENDAR