BEGIN:VCALENDAR
VERSION:2.0
PRODID:-//wp-events-plugin.com//7.2.3.1//EN
TZID:Europe/Berlin
X-WR-TIMEZONE:Europe/Berlin
BEGIN:VEVENT
UID:1135@bitmi.de
DTSTART:20250205T130000Z
DTEND:20250205T150000Z
DTSTAMP:20250204T103248Z
URL:https://bitmi.de/events/branchendialog-female-power/
SUMMARY:Branchendialog: Fe(male) Power - Gemeinsam die Zukunft der IT gesta
 lten
DESCRIPTION:Branchendialog: Fe(male) Power - Gemeinsam die Zukunft der IT 
 gestalten\nRund zwei Jahre läuft unser Projekt FEMtential nun und hat int
 eressante Learnings und Impulse für unsere Projektunternehmen und die ges
 amte IT-Branche gebracht.\n\nWir möchten die gewonnenen Erkenntnisse mit 
 Ihnen teilen und uns zum Thema Fachkräftesicherung und Vielfalt im IT-Mit
 telstand austauschen. Im Zentrum steht die Frage\, wie Frauen und Männer 
 gemeinsam Chancengleichheit und Vielfalt fördern und neue Wege der erfolg
 reichen Zusammenarbeit gestalten können.\n\nSie erhalten einen spannenden
  Einblick in unsere Projektaktivitäten\, erfahren\, welche Formate erfolg
 sversprechend sind\, wenn es um die Bindung von weiblichen Fachkräften ge
 ht und hören Stimmen von Teilnehmerinnen in Bezug auf eine offene und ink
 lusive Unternehmenskultur:\n\n 	Wie können wir verborgene Fachkräftepote
 nziale entdecken und aktivieren?\n 	Wie lässt sich ein gutes Arbeitsumfel
 d gemeinsam gestalten?\n 	Welche Rolle spielt dabei das Empowerment von Fr
 auen in der IT?\n 	Wie profitieren Männer von mehr Chancengleichheit?\n 	
 Wie können Unternehmen gleichermaßen für Frauen und Männer attraktiv s
 ein?\n\nUnsere Gäste:\n\n 	Grußwort: Christian Gericke (Vorstand des BIT
 Mi)\n 	Projektüberblick: Daniela Kozian (BITMi) &amp\; Jana-Madeline Stau
 pe (Prospektiv GmbH)\n 	Recap Highlights bei FEMtential\n\n 	Luisa Hendel 
 (qualido GmbH)\n 	Christiane Lagemann (GreenGate AG)\n 	Stefanie Wieland (
 Zendigma Consulting GmbH)\n\n\n 	Panel "Chancengleichheit gemeinsam gestal
 ten"\n\n 	Prof. Dr. Stefan Brandenburg (TU Chemnitz | Mittelstand-Digital 
 Zentrum Fokus Mensch)\n 	Christian Geschkat-Stadie (IHK Gfi)\n 	Luisa Hend
 el (qualido GmbH)\n 	Stefanie Wieland (Zendigma Consulting GmbH)\n\n\n\nMi
 t dem Branchendialog möchten wir Netzwerke schaffen\, Kooperationen förd
 ern\, positive Veränderungen in der Branche anstoßen und verschiedene Pe
 rspektiven und Ansichten zur Chancengleichheit und Fachkräftesicherung in
  der IT zusammenzubringen. Sie sind herzlich eingeladen\, aktiv mitzudisku
 tieren! Wir sind gespannt auf Ihre Sichtweise und freuen uns darauf\, mit 
 Ihnen in den Dialog zu treten.\n\nSeien Sie dabei\, wir freuen uns auf Sie
 .\n\nDie Logindaten zum Webmeeting schicken wir Ihnen 24 Stunden vor der V
 eranstaltung.
ATTACH;FMTTYPE=image/jpeg:https://bitmi.de/wp-content/uploads/Branchendial
 og-2025.png
END:VEVENT
END:VCALENDAR