BEGIN:VCALENDAR
VERSION:2.0
PRODID:-//wp-events-plugin.com//7.2.3.1//EN
TZID:Europe/Berlin
X-WR-TIMEZONE:Europe/Berlin
BEGIN:VEVENT
UID:1288@bitmi.de
DTSTART;TZID=Europe/Berlin:20250328T130000
DTEND;TZID=Europe/Berlin:20250328T140000
DTSTAMP:20250211T124342Z
URL:https://bitmi.de/events/bitmi-vorstandssprechstunde/
SUMMARY:BITMi-Vorstandssprechstunde
DESCRIPTION:Ab März bieten wir ein neues Format an. Die offene BITMi-Vorst
 andssprechstunde bietet unseren Mitgliedern einen direkten Austausch mit u
 nserem Vorstand! Bringen Sie hier Ihre aktuellen Themen\, Herausforderunge
 n und Anregungen ein. Zudem erhalten Sie die Möglichkeit der Mitgestaltun
 g und profitieren von einer stärkeren Vernetzung innerhalb des Verbands.\
 n\n 	Dauer: 60 Minuten\n 	Häufigkeit: jeder letzte Freitag im Monat um 13
 :00 Uhr\n 	Zielgruppe: BITMi-Mitglieder\n 	Ort: Live via Zoom\n\nDie Einwa
 hldaten versenden wir einen Tag vor dem Termin. Wir freuen uns über den A
 ustausch mit Ihnen.
ATTACH;FMTTYPE=image/jpeg:https://bitmi.de/wp-content/uploads/Vorstandsspr
 echstunde-ab-Maerz-25.png
CATEGORIES:Exklusiv für Mitglieder
END:VEVENT
BEGIN:VTIMEZONE
TZID:Europe/Berlin
X-LIC-LOCATION:Europe/Berlin
BEGIN:STANDARD
DTSTART:20241027T020000
TZOFFSETFROM:+0200
TZOFFSETTO:+0100
TZNAME:CET
END:STANDARD
END:VTIMEZONE
END:VCALENDAR