BEGIN:VCALENDAR
VERSION:2.0
PRODID:-//wp-events-plugin.com//7.2.3.1//EN
TZID:Europe/Berlin
X-WR-TIMEZONE:Europe/Berlin
BEGIN:VEVENT
UID:1533@bitmi.de
DTSTART;TZID=Europe/Berlin:20260529T130000
DTEND;TZID=Europe/Berlin:20260529T140000
DTSTAMP:20260302T095804Z
URL:https://bitmi.de/events/bitmi-sprechstunde-mit-politik-update-aus-berl
 in-5/
SUMMARY:BITMi-Sprechstunde mit Politik-Update aus Berlin
DESCRIPTION:Die BITMi-Sprechstunde bietet unseren Mitgliedern einen direkt
 en Austausch mit unserem Vorstand und einen politischen Impuls zur aktuel
 len Digitalpolitik. Mit dabei:\n\n 	Christian Gericke | BITMi-Vorstand\n 
 	Konstantin Elsässer | Referent für Digitalpolitik.\n\nBringen Sie hier
  Ihre aktuellen Themen\, Herausforderungen und Anregungen ein. Zudem erhal
 ten Sie die Möglichkeit der Mitgestaltung und profitieren von einer stär
 keren Vernetzung innerhalb des Verbands.\n\n 	Dauer: 60 Minuten\n 	Häufi
 gkeit: jeden letzten Freitag im Monat um 13:00 Uhr\n 	Zielgruppe: BITMi-
 Mitglieder\n 	Ort: Live via Zoom\n\nWir freuen uns über den Austausch mi
 t Ihnen.\n\n
ATTACH;FMTTYPE=image/jpeg:https://bitmi.de/wp-content/uploads/BITMi-Sprech
 stunde-1.png
CATEGORIES:Exklusiv für Mitglieder,Gesprächsrunde
LOCATION:https://zoom.us/j/98674638589?pwd=b7IA8bK3VWjyNyOeZhKar8bwt1VBa4.1
END:VEVENT
BEGIN:VTIMEZONE
TZID:Europe/Berlin
X-LIC-LOCATION:Europe/Berlin
BEGIN:DAYLIGHT
DTSTART:20260329T030000
TZOFFSETFROM:+0100
TZOFFSETTO:+0200
TZNAME:CEST
END:DAYLIGHT
END:VTIMEZONE
END:VCALENDAR