BEGIN:VCALENDAR
VERSION:2.0
PRODID:-//wp-events-plugin.com//7.2.3.1//EN
TZID:Europe/Berlin
X-WR-TIMEZONE:Europe/Berlin
BEGIN:VEVENT
UID:1550@bitmi.de
DTSTART;TZID=Europe/Berlin:20260414T090000
DTEND;TZID=Europe/Berlin:20260414T110000
DTSTAMP:20260305T065609Z
URL:https://bitmi.de/events/bitmi-breakfast-in-st-ingbert/
SUMMARY:BITMi Breakfast in St. Ingbert
DESCRIPTION:BITMi Breakfast: Netzwerken bei einem gemeinsamen Frühstück\n
 \nWir laden Sie herzlich ein zum BITMi Breakfast am 14. April 2026 in St. 
 Ingbert! Gemeinsam mit unseren Co-Gastgebern\, der abat+ GmbH und der IHK 
 Saarland\, starten wir mit Ihnen in einen Morgen voller Austausch und Disk
 ussion.\n\nWas erwartet Sie?\n\nDas BITMi Breakfast ist mehr als nur ein F
 rühstück – es ist ein Format für Unternehmertum. Nutzen Sie diese Gel
 egenheit\, um Ihr Unternehmensnetzwerk in kürzester Zeit zu erweitern und
  wertvolle Kontakte zu knüpfen. Ob etabliertes Unternehmen oder aufstrebe
 ndes Start-up – dieses Netzwerkformat bietet Ihnen eine ideale Plattform
 \, um die Unternehmenslandschaft der Region zu erkunden\, Kooperationen an
 zubahnen und Impulse für die Zukunft zu setzen. Beim BITMi Breakfast gebe
 n wir Einblicke in aktuelle Projekte wie das Mittelstand-Digital Zentrum F
 okus Mensch und unsere ZIM-Netzwerke – kompakt\, praxisnah und im direkt
 en Austausch.\n\nIn entspannter Frühstücksatmosphäre\, ohne feste Agend
 a\, stehen das Netzwerken und der persönliche Austausch im Mittelpunkt. V
 on BITMi-Seite informieren wir Sie über aktuelle Entwicklungen und sind g
 espannt auf die Themen\, die Sie bewegen.\n\nVeranstaltungsdetails:\n\nWan
 n? 14. April 2026 | 9:00 Uhr\nWo? abat+ GmbH\, Innovationspark am Beckertu
 rm\, Kaiserstr. 170-174\, 66386\, St. Ingbert\nFrühstück? Wir sorgen fü
 r Ihr leibliches Wohl!\n\nHinweis: Während der Veranstaltung werden Fotos
  gemacht.\n\nMelden Sie sich jetzt an und starten Sie mit uns in einen erf
 olgreichen Tag!
ATTACH;FMTTYPE=image/jpeg:https://bitmi.de/wp-content/uploads/Breakfast-UI
 G-11.png
CATEGORIES:BITMi Breakfast,BITMi-Event,Netzwerkevent,Offen für alle,vor
 Ort
LOCATION:abat+ GmbH\, Innovationspark am Beckerturm\, Kaiserstraße 170-174
 \, St. Ingbert\, 66386\, Deutschland
X-APPLE-STRUCTURED-LOCATION;VALUE=URI;X-ADDRESS=Kaiserstraße 170-174\, St.
  Ingbert\, 66386\, Deutschland;X-APPLE-RADIUS=100;X-TITLE=abat+ GmbH\, Inn
 ovationspark am Beckerturm:geo:0,0
END:VEVENT
BEGIN:VTIMEZONE
TZID:Europe/Berlin
X-LIC-LOCATION:Europe/Berlin
BEGIN:DAYLIGHT
DTSTART:20260329T030000
TZOFFSETFROM:+0100
TZOFFSETTO:+0200
TZNAME:CEST
END:DAYLIGHT
END:VTIMEZONE
END:VCALENDAR