BEGIN:VCALENDAR
VERSION:2.0
PRODID:-//wp-events-plugin.com//7.2.3.1//EN
TZID:Europe/Berlin
X-WR-TIMEZONE:Europe/Berlin
BEGIN:VEVENT
UID:1544@bitmi.de
DTSTART;TZID=Europe/Berlin:20260424T083000
DTEND;TZID=Europe/Berlin:20260424T103000
DTSTAMP:20260409T104454Z
URL:https://bitmi.de/events/bitmi-breakfast-in-speyer/
SUMMARY:BITMi Breakfast in Speyer
DESCRIPTION:BITMi Breakfast: Netzwerken bei einem gemeinsamen Frühstück\n
 \nWir laden Sie herzlich ein zum BITMi Breakfast am 24. April 2026 in Spey
 er ! Gemeinsam mit unseren zwei Co-Gastgebern\, dem IT-Forum Rhein Neckar 
 und GoodSpaces\, starten wir mit Ihnen in einen Morgen voller Austausch un
 d Diskussion.\n\nWas erwartet Sie?\n\nDas BITMi Breakfast ist mehr als nur
  ein Frühstück – es ist ein Format für Unternehmertum. Nutzen Sie die
 se Gelegenheit\, um Ihr Unternehmensnetzwerk in kürzester Zeit zu erweite
 rn und wertvolle Kontakte zu knüpfen. Ob etabliertes Unternehmen oder auf
 strebendes Start-up – dieses Netzwerkformat bietet Ihnen eine ideale Pla
 ttform\, um die Unternehmenslandschaft der Region zu erkunden\, Kooperatio
 nen anzubahnen und Impulse für die Zukunft zu setzen. Beim BITMi Breakfas
 t geben wir Einblicke in aktuelle Projekte wie das Mittelstand-Digital Zen
 trum Fokus Mensch und unsere ZIM-Netzwerke – kompakt\, praxisnah und im 
 direkten Austausch.\nAußerdem erwarten Sie zwei spannende Impulsvorträge
 :\nKai Utzinger stellt in seinem Impuls SOVERIA vor – ein Privacy-Tech
 -Startup mit EU-first-Ansatz\, das die digitale Exposition von Führungskr
 äften sichtbar macht und Unternehmen dabei unterstützt\, ein oft untersc
 hätztes Einfallstor für Social Engineering und Reputationsrisiken zu sch
 ließen.\nSebastian Hartung zeigt in seinem Vortrag „Von Trial &amp\; E
 rror zu echtem Mehrwert: Wie emori KI nachhaltig einsetzt“\, wie emori m
 it einem kleinen Team vom ersten Prototypen bis zur marktfähigen App kün
 stliche Intelligenz nutzt\, daraus lernt und nachhaltige Systeme schafft\,
  die echten Mehrwert für die Nutzer:innen bieten.\nIn entspannter Frühst
 ücksatmosphäre\, ohne feste Agenda\, stehen das Netzwerken und der pers
 önliche Austausch im Mittelpunkt. Von BITMi-Seite informieren wir Sie üb
 er aktuelle Entwicklungen und sind gespannt auf die Themen\, die Sie beweg
 en.\nVeranstaltungsdetails:\n\nWann? 24. April 2026 | 8:30 Uhr\nWo? RheinV
 illa\, Hafenstr. 39\, 67346 Speyer\nFrühstück? Wir sorgen für Ihr leib
 liches Wohl!\n\nHinweis: Während der Veranstaltung werden Fotos gemacht.\
 n\nMelden Sie sich jetzt an und starten Sie mit uns in einen erfolgreichen
  Tag!
ATTACH;FMTTYPE=image/jpeg:https://bitmi.de/wp-content/uploads/BITMI-Fruehs
 tueck.png
CATEGORIES:BITMi Breakfast,BITMi-Event,Netzwerkevent,Offen für alle,vor
 Ort
LOCATION:RheinVilla\, Hafenstr. 39\, Speyer\, Deutschland
X-APPLE-STRUCTURED-LOCATION;VALUE=URI;X-ADDRESS=Hafenstr. 39\, Speyer\, Deu
 tschland;X-APPLE-RADIUS=100;X-TITLE=RheinVilla:geo:0,0
END:VEVENT
BEGIN:VTIMEZONE
TZID:Europe/Berlin
X-LIC-LOCATION:Europe/Berlin
BEGIN:DAYLIGHT
DTSTART:20260329T030000
TZOFFSETFROM:+0100
TZOFFSETTO:+0200
TZNAME:CEST
END:DAYLIGHT
END:VTIMEZONE
END:VCALENDAR