BEGIN:VCALENDAR
VERSION:2.0
PRODID:-//wp-events-plugin.com//7.2.3.1//EN
TZID:Europe/Berlin
X-WR-TIMEZONE:Europe/Berlin
BEGIN:VEVENT
UID:1337@bitmi.de
DTSTART;TZID=Europe/Berlin:20250612T080000
DTEND;TZID=Europe/Berlin:20250612T100000
DTSTAMP:20251002T104033Z
URL:https://bitmi.de/events/bitmi-breakfast-in-hamburg/
SUMMARY:BITMi Breakfast in Hamburg
DESCRIPTION:BITMi Breakfast: Netzwerken bei einem gemeinsamen Frühstück\n
 \nWir laden Sie herzlich ein zum BITMi Breakfast am 12. Juni 2025 in Hambu
 rg! Gemeinsam mit unseren Co-Gastgebern Zive und Netlight starten wir m
 it Ihnen in einen Morgen voller Austausch und neuer Impulse.\n\nWas erwart
 et Sie?\n\nDas BITMi Breakfast ist mehr als nur ein Frühstück – es ist
  ein Format für Unternehmertum. Nutzen Sie diese Gelegenheit\, um Ihr Unt
 ernehmensnetzwerk in kürzester Zeit zu erweitern und wertvolle Kontakte z
 u knüpfen. Ob etabliertes Unternehmen oder aufstrebendes Start-up – die
 ses Netzwerkformat bietet Ihnen eine ideale Plattform\, um die Unternehmen
 slandschaft der Region zu erkunden\, Kooperationen anzubahnen und Impulse 
 für die Zukunft zu setzen. Beim BITMi Breakfast geben wir Einblicke in ak
 tuelle Projekte wie das Mittelstand-Digital Zentrum Fokus Mensch und unser
 e ZIM-Netzwerke – kompakt\, praxisnah und im direkten Austausch.\n\nIn e
 ntspannter Frühstücksatmosphäre\, ohne feste Agenda\, stehen das Netzwe
 rken und der persönliche Austausch im Mittelpunkt. Von BITMi-Seite inform
 ieren wir Sie über aktuelle Entwicklungen und sind gespannt auf die Theme
 n\, die Sie bewegen.\n\nVeranstaltungsdetails:\n\nWann? 12. Juni 2025 | 8
  Uhr\nWo? Große Bleichen 23-27\, 20354 Hamburg\nFrühstück? Wir sorgen f
 ür Ihr leibliches Wohl!\n\nHinweis: Während der Veranstaltung werden Fot
 os gemacht.\n\nMelden Sie sich jetzt an und starten Sie mit uns in einen e
 rfolgreichen Tag!
ATTACH;FMTTYPE=image/jpeg:https://bitmi.de/wp-content/uploads/Breakfast-zi
 ve-5.png
CATEGORIES:BITMi-Event,Netzwerkevent
LOCATION:Netlight\, Große Bleichen 23-27\, Hamburg\, 20354\, Deutschland
X-APPLE-STRUCTURED-LOCATION;VALUE=URI;X-ADDRESS=Große Bleichen 23-27\, Ham
 burg\, 20354\, Deutschland;X-APPLE-RADIUS=100;X-TITLE=Netlight:geo:0,0
END:VEVENT
BEGIN:VTIMEZONE
TZID:Europe/Berlin
X-LIC-LOCATION:Europe/Berlin
BEGIN:DAYLIGHT
DTSTART:20250330T030000
TZOFFSETFROM:+0100
TZOFFSETTO:+0200
TZNAME:CEST
END:DAYLIGHT
END:VTIMEZONE
END:VCALENDAR