BEGIN:VCALENDAR
VERSION:2.0
PRODID:-//wp-events-plugin.com//7.2.3.1//EN
TZID:Europe/Berlin
X-WR-TIMEZONE:Europe/Berlin
BEGIN:VEVENT
UID:1612@bitmi.de
DTSTART;TZID=Europe/Berlin:20260519T083000
DTEND;TZID=Europe/Berlin:20260519T100000
DTSTAMP:20260424T203053Z
URL:https://bitmi.de/events/bitmi-breakfast-in-berlin-4/
SUMMARY:BITMi Breakfast in Berlin
DESCRIPTION:BITMi Breakfast: Netzwerken bei einem gemeinsamen Frühstück\n
 \nWir laden Sie herzlich ein zum BITMi Breakfast am 19. Mai 2026 in Berlin
  ! Gemeinsam mit unserem Co-Gastgeber\, dem SIBB\, starten wir mit Ihnen 
 in einen Morgen voller Austausch und Diskussion.\n\nWas erwartet Sie?\n\nD
 as BITMi Breakfast ist mehr als nur ein Frühstück – es ist ein Format 
 für Unternehmertum. Nutzen Sie diese Gelegenheit\, um Ihr Unternehmensnet
 zwerk in kürzester Zeit zu erweitern und wertvolle Kontakte zu knüpfen. 
 Ob etabliertes Unternehmen oder aufstrebendes Start-up – dieses Netzwerk
 format bietet Ihnen eine ideale Plattform\, um die Unternehmenslandschaft 
 der Region zu erkunden\, Kooperationen anzubahnen und Impulse für die Zuk
 unft zu setzen. Beim BITMi Breakfast geben wir Einblicke in aktuelle Proje
 kte wie das Mittelstand-Digital Zentrum Fokus Mensch und unsere ZIM-Netzwe
 rke – kompakt\, praxisnah und im direkten Austausch.\nIn entspannter Fr
 ühstücksatmosphäre\, ohne feste Agenda\, stehen das Netzwerken und der 
 persönliche Austausch im Mittelpunkt. Von BITMi-Seite informieren wir Sie
  über aktuelle Entwicklungen und sind gespannt auf die Themen\, die Sie b
 ewegen.\nVeranstaltungsdetails:\n\nWann? 19. Mai 2026 | ab 8:30 Uhr\n\nWo?
  TBO - Design &amp\; Tech Agency\, Genthiner Straße 8\, 10785 Berlin\n\nF
 rühstück? Wir sorgen für Ihr leibliches Wohl!\n\nHinweis: Während der 
 Veranstaltung werden Fotos gemacht.\n\nMelden Sie sich jetzt an und starte
 n Sie mit uns in einen erfolgreichen Tag!\n\nAnmeldung hier !
ATTACH;FMTTYPE=image/jpeg:https://bitmi.de/wp-content/uploads/Breakfast-UI
 G-12.png
CATEGORIES:BITMi Breakfast,BITMi-Event,Netzwerkevent,Offen für alle,vor
 Ort
LOCATION:TBO - Design & Tech Agency\, Genthiner Straße 8\, Berlin\, Deutsc
 hland
X-APPLE-STRUCTURED-LOCATION;VALUE=URI;X-ADDRESS=Genthiner Straße 8\, Berli
 n\, Deutschland;X-APPLE-RADIUS=100;X-TITLE=TBO - Design & Tech Agency:geo:
 0,0
END:VEVENT
BEGIN:VTIMEZONE
TZID:Europe/Berlin
X-LIC-LOCATION:Europe/Berlin
BEGIN:DAYLIGHT
DTSTART:20260329T030000
TZOFFSETFROM:+0100
TZOFFSETTO:+0200
TZNAME:CEST
END:DAYLIGHT
END:VTIMEZONE
END:VCALENDAR