BEGIN:VCALENDAR
VERSION:2.0
PRODID:-//wp-events-plugin.com//7.2.3.1//EN
TZID:Europe/Berlin
X-WR-TIMEZONE:Europe/Berlin
BEGIN:VEVENT
UID:1521@bitmi.de
DTSTART;TZID=Europe/Berlin:20260522T080000
DTEND;TZID=Europe/Berlin:20260522T100000
DTSTAMP:20251127T104138Z
URL:https://bitmi.de/events/bitmi-breakfast-in-augsburg-2/
SUMMARY:BITMi Breakfast in Augsburg
DESCRIPTION:BITMi Breakfast: Netzwerken bei einem gemeinsamen Frühstück\n
 \nWir laden Sie herzlich ein zum BITMi Breakfast am 22. Mai 2026 in Augsb
 urg! Gemeinsam mit unserem Co-Gastgeber Tuxedo starten wir mit Ihnen in ei
 nen Morgen voller Austausch und neuer Impulse.\n\nWas erwartet Sie?\n\nDas
  BITMi Breakfast ist mehr als nur ein Frühstück – es ist ein Format f
 ür Unternehmertum. Nutzen Sie diese Gelegenheit\, um Ihr Unternehmensnetz
 werk in kürzester Zeit zu erweitern und wertvolle Kontakte zu knüpfen. O
 b etabliertes Unternehmen oder aufstrebendes Start-up – dieses Netzwerkf
 ormat bietet Ihnen eine ideale Plattform\, um die Unternehmenslandschaft d
 er Region zu erkunden\, Kooperationen anzubahnen und Impulse für die Zuku
 nft zu setzen. Beim BITMi Breakfast geben wir Einblicke in aktuelle Projek
 te wie das Mittelstand-Digital Zentrum Fokus Mensch und unsere ZIM-Netzwer
 ke – kompakt\, praxisnah und im direkten Austausch.\n\nIn entspannter Fr
 ühstücksatmosphäre\, ohne feste Agenda\, stehen das Netzwerken und der 
 persönliche Austausch im Mittelpunkt. Von BITMi-Seite informieren wir Sie
  über aktuelle Entwicklungen und sind gespannt auf die Themen\, die Sie b
 ewegen.\n\nVeranstaltungsdetails:\n\nWann? 22. Mai 2026 | 8 Uhr\nWo? TUXED
 O Computers GmbH\, Alter Postweg 101\, 86159 Augsburg\nFrühstück? Wir so
 rgen für Ihr leibliches Wohl!\n\nHinweis: Während der Veranstaltung werd
 en Fotos gemacht.\n\nMelden Sie sich jetzt an und starten Sie mit uns in e
 inen erfolgreichen Tag!
ATTACH;FMTTYPE=image/jpeg:https://bitmi.de/wp-content/uploads/Breakfast-UI
 G-1-2.png
CATEGORIES:BITMi Breakfast,BITMi-Event,Netzwerkevent,vor Ort
LOCATION:TUXEDO Computers GmbH\, Alter Postweg 101\, Augsburg\, Deutschland
X-APPLE-STRUCTURED-LOCATION;VALUE=URI;X-ADDRESS=Alter Postweg 101\, Augsbur
 g\, Deutschland;X-APPLE-RADIUS=100;X-TITLE=TUXEDO Computers GmbH:geo:0,0
END:VEVENT
BEGIN:VTIMEZONE
TZID:Europe/Berlin
X-LIC-LOCATION:Europe/Berlin
BEGIN:DAYLIGHT
DTSTART:20260329T030000
TZOFFSETFROM:+0100
TZOFFSETTO:+0200
TZNAME:CEST
END:DAYLIGHT
END:VTIMEZONE
END:VCALENDAR