BEGIN:VCALENDAR
VERSION:2.0
PRODID:-//wp-events-plugin.com//7.2.3.1//EN
TZID:Europe/Berlin
X-WR-TIMEZONE:Europe/Berlin
BEGIN:VEVENT
UID:276@bitmi.de
DTSTART:20180306T230000Z
DTEND:20180307T225959Z
DTSTAMP:20230906T085757Z
URL:https://bitmi.de/events/11-deutscher-innovationsgipfel-7/
SUMMARY:11. DEUTSCHER INNOVATIONSGIPFEL
DESCRIPTION:Digitalisierung – Innovationen – Nachhaltigkeit – Strateg
 ien\n\nDer DEUTSCHE INNOVATIONSGIPFEL ist ein einmaliges crossindustrielle
 s & technologieübergreifendes Entscheidertreffen. Durch Keynotes\, Showro
 om\, CxO-Talks\, interaktive Workshops\, innovation.tour und andere\, in s
 ich verzahnte Konzeptbausteine erfolgt ein Wissens- & Know-how-Transfer an
 hand von „Best Cases“. Hier knüpft man Netzwerke\, fädelt Partnersch
 aften und Kooperationen ein\, tauscht innovative Ideen aus\, generiert neu
 e\, zukunftsträchtige Geschäftsmodelle\, Kunden und Leads auf höchstem 
 Niveau. Tickets & Details: www.deutscher-innovationsgipfel.de\n\nAls BITMi
  Mitglied erhalten Sie 20% Rabatt auf den Teilnehmerbeitrag. Melden Sie si
 ch für den Anmeldecode bitte unter kontakt@bitmi.de.
ATTACH;FMTTYPE=image/jpeg:https://bitmi.de/wp-content/uploads/LOGO-DI_Wort
 marke-u.-Claim_final_w_RGB-22.jpg
END:VEVENT
END:VCALENDAR